Package: mistyR Version: 1.17.0 Command: /Library/Frameworks/R.framework/Resources/bin/R CMD build --keep-empty-dirs --no-resave-data mistyR StartedAt: 2025-10-21 18:12:59 -0400 (Tue, 21 Oct 2025) EndedAt: 2025-10-21 18:17:46 -0400 (Tue, 21 Oct 2025) EllapsedTime: 287.3 seconds RetCode: 0 Status: OK PackageFile: mistyR_1.17.0.tar.gz PackageFileSize: 3.1 MiB