Package: mistyR Version: 1.17.0 Command: rm -rf mistyR.buildbin-libdir && mkdir mistyR.buildbin-libdir && /Users/biocbuild/BBS/utils/build-universal.sh mistyR_1.17.0.tar.gz /Library/Frameworks/R.framework/Resources/bin/R mistyR.buildbin-libdir StartedAt: 2025-10-22 02:35:00 -0400 (Wed, 22 Oct 2025) EndedAt: 2025-10-22 02:35:09 -0400 (Wed, 22 Oct 2025) EllapsedTime: 9.2 seconds RetCode: 0 Status: OK PackageFile: mistyR_1.17.0.tgz PackageFileSize: 3.206 MiB