Package: mist Version: 1.1.0 Command: /home/biocbuild/R/R/bin/R CMD build --keep-empty-dirs --no-resave-data mist StartedAt: 2025-10-21 01:18:39 -0000 (Tue, 21 Oct 2025) EndedAt: 2025-10-21 01:20:56 -0000 (Tue, 21 Oct 2025) EllapsedTime: 136.1 seconds RetCode: 0 Status: OK PackageFile: mist_1.1.0.tar.gz PackageFileSize: 402.5 KiB