Package: mist Version: 1.1.0 Command: rm -rf mist.buildbin-libdir && mkdir mist.buildbin-libdir && F:\biocbuild\bbs-3.22-bioc\R\bin\R.exe CMD INSTALL --build --library=mist.buildbin-libdir mist_1.1.0.tar.gz StartedAt: 2025-08-15 10:43:22 -0400 (Fri, 15 Aug 2025) EndedAt: 2025-08-15 10:43:57 -0400 (Fri, 15 Aug 2025) EllapsedTime: 34.7 seconds RetCode: 0 Status: OK PackageFile: mist_1.1.0.zip PackageFileSize: 356.5 KiB