Package: mist Version: 1.1.0 Command: /Library/Frameworks/R.framework/Resources/bin/R CMD INSTALL mist StartedAt: 2025-10-24 15:39:30 -0400 (Fri, 24 Oct 2025) EndedAt: 2025-10-24 15:40:12 -0400 (Fri, 24 Oct 2025) EllapsedTime: 41.7 seconds RetCode: 0 Status: OK