Package: mist Version: 1.1.0 Command: /Library/Frameworks/R.framework/Resources/bin/R CMD build --keep-empty-dirs --no-resave-data mist StartedAt: 2025-10-27 17:42:03 -0400 (Mon, 27 Oct 2025) EndedAt: 2025-10-27 17:44:04 -0400 (Mon, 27 Oct 2025) EllapsedTime: 121.0 seconds RetCode: 0 Status: OK PackageFile: mist_1.1.0.tar.gz PackageFileSize: 515.1 KiB