Package: missMethyl Version: 1.43.1 Command: /Library/Frameworks/R.framework/Resources/bin/R CMD check --install=check:missMethyl.install-out.txt --library=/Library/Frameworks/R.framework/Resources/library --no-vignettes --timings missMethyl_1.43.1.tar.gz StartedAt: 2025-10-09 20:28:02 -0400 (Thu, 09 Oct 2025) EndedAt: 2025-10-09 20:37:55 -0400 (Thu, 09 Oct 2025) EllapsedTime: 592.9 seconds RetCode: 0 Status: WARNINGS CheckDir: missMethyl.Rcheck Warnings: 1