Package: missMethyl Version: 1.43.1 Command: /Library/Frameworks/R.framework/Resources/bin/R CMD build --keep-empty-dirs --no-resave-data missMethyl StartedAt: 2025-10-09 17:01:20 -0400 (Thu, 09 Oct 2025) EndedAt: 2025-10-09 17:09:30 -0400 (Thu, 09 Oct 2025) EllapsedTime: 489.4 seconds RetCode: 0 Status: OK PackageFile: missMethyl_1.43.1.tar.gz PackageFileSize: 1.522 MiB