Package: mirTarRnaSeq Version: 1.17.0 Command: /home/biocbuild/R/R/bin/R CMD INSTALL mirTarRnaSeq StartedAt: 2025-10-23 20:25:53 -0000 (Thu, 23 Oct 2025) EndedAt: 2025-10-23 20:26:08 -0000 (Thu, 23 Oct 2025) EllapsedTime: 14.5 seconds RetCode: 0 Status: OK