Package: mirTarRnaSeq Version: 1.17.0 Command: F:\biocbuild\bbs-3.22-bioc\R\bin\R.exe CMD check --no-multiarch --install=check:mirTarRnaSeq.install-out.txt --library=F:\biocbuild\bbs-3.22-bioc\R\library --no-vignettes --timings mirTarRnaSeq_1.17.0.tar.gz StartedAt: 2025-08-15 05:16:08 -0400 (Fri, 15 Aug 2025) EndedAt: 2025-08-15 05:17:32 -0400 (Fri, 15 Aug 2025) EllapsedTime: 84.4 seconds RetCode: 0 Status: OK CheckDir: mirTarRnaSeq.Rcheck Warnings: 0