Package: mirTarRnaSeq Version: 1.17.0 Command: /home/biocbuild/bbs-3.22-bioc/R/bin/R CMD INSTALL mirTarRnaSeq StartedAt: 2025-10-20 15:07:44 -0400 (Mon, 20 Oct 2025) EndedAt: 2025-10-20 15:07:59 -0400 (Mon, 20 Oct 2025) EllapsedTime: 15.3 seconds RetCode: 0 Status: OK