Package: mirTarRnaSeq Version: 1.17.0 Command: /Library/Frameworks/R.framework/Resources/bin/R CMD build --keep-empty-dirs --no-resave-data mirTarRnaSeq StartedAt: 2025-10-20 17:01:20 -0400 (Mon, 20 Oct 2025) EndedAt: 2025-10-20 17:02:29 -0400 (Mon, 20 Oct 2025) EllapsedTime: 68.8 seconds RetCode: 0 Status: OK PackageFile: mirTarRnaSeq_1.17.0.tar.gz PackageFileSize: 3.425 MiB