Package: minfi Version: 1.56.0 Command: /home/biocbuild/R/R/bin/R CMD build --keep-empty-dirs --no-resave-data minfi StartedAt: 2025-11-21 03:56:25 -0000 (Fri, 21 Nov 2025) EndedAt: 2025-11-21 03:58:29 -0000 (Fri, 21 Nov 2025) EllapsedTime: 124.0 seconds RetCode: 0 Status: OK PackageFile: minfi_1.56.0.tar.gz PackageFileSize: 575 KiB