Package: mina Version: 1.17.0 Command: /home/biocbuild/R/R/bin/R CMD INSTALL mina StartedAt: 2025-10-13 20:45:41 -0000 (Mon, 13 Oct 2025) EndedAt: 2025-10-13 20:46:20 -0000 (Mon, 13 Oct 2025) EllapsedTime: 39.0 seconds RetCode: 0 Status: OK