Package: mina Version: 1.17.0 Command: /home/biocbuild/R/R/bin/R CMD build --keep-empty-dirs --no-resave-data mina StartedAt: 2025-10-14 01:46:07 -0000 (Tue, 14 Oct 2025) EndedAt: 2025-10-14 01:46:58 -0000 (Tue, 14 Oct 2025) EllapsedTime: 51.0 seconds RetCode: 1 Status: ERROR PackageFile: None PackageFileSize: NA