Package: mina Version: 1.17.0 Command: rm -rf mina.buildbin-libdir && mkdir mina.buildbin-libdir && F:\biocbuild\bbs-3.22-bioc\R\bin\R.exe CMD INSTALL --build --library=mina.buildbin-libdir mina_1.17.0.tar.gz StartedAt: 2025-08-15 10:42:21 -0400 (Fri, 15 Aug 2025) EndedAt: 2025-08-15 10:43:41 -0400 (Fri, 15 Aug 2025) EllapsedTime: 79.7 seconds RetCode: 0 Status: OK PackageFile: mina_1.17.0.zip PackageFileSize: 8.16 MiB