Package: mina Version: 1.17.0 Command: /home/biocbuild/bbs-3.22-bioc/R/bin/R CMD INSTALL mina StartedAt: 2025-10-14 15:11:58 -0400 (Tue, 14 Oct 2025) EndedAt: 2025-10-14 15:12:26 -0400 (Tue, 14 Oct 2025) EllapsedTime: 28.7 seconds RetCode: 0 Status: OK