Package: mina Version: 1.17.0 Command: /home/biocbuild/bbs-3.22-bioc/R/bin/R CMD check --install=check:mina.install-out.txt --library=/home/biocbuild/bbs-3.22-bioc/R/site-library --timings mina_1.17.0.tar.gz StartedAt: 2025-10-15 01:48:13 -0400 (Wed, 15 Oct 2025) EndedAt: 2025-10-15 01:52:54 -0400 (Wed, 15 Oct 2025) EllapsedTime: 281.3 seconds RetCode: 0 Status: WARNINGS CheckDir: mina.Rcheck Warnings: 1