Package: mimager Version: 1.33.0 Command: /home/biocbuild/bbs-3.22-bioc/R/bin/R CMD check --install=check:mimager.install-out.txt --library=/home/biocbuild/bbs-3.22-bioc/R/site-library --timings mimager_1.33.0.tar.gz StartedAt: 2025-10-25 01:34:20 -0400 (Sat, 25 Oct 2025) EndedAt: 2025-10-25 01:38:20 -0400 (Sat, 25 Oct 2025) EllapsedTime: 240.2 seconds RetCode: 0 Status: OK CheckDir: mimager.Rcheck Warnings: 0