Package: mimager Version: 1.33.0 Command: /Library/Frameworks/R.framework/Resources/bin/R CMD check --install=check:mimager.install-out.txt --library=/Library/Frameworks/R.framework/Resources/library --no-vignettes --timings mimager_1.33.0.tar.gz StartedAt: 2025-10-23 20:49:43 -0400 (Thu, 23 Oct 2025) EndedAt: 2025-10-23 20:51:12 -0400 (Thu, 23 Oct 2025) EllapsedTime: 89.0 seconds RetCode: 0 Status: OK CheckDir: mimager.Rcheck Warnings: 0