Package: mimager Version: 1.33.0 Command: /Library/Frameworks/R.framework/Resources/bin/R CMD build --keep-empty-dirs --no-resave-data mimager StartedAt: 2025-10-23 17:03:30 -0400 (Thu, 23 Oct 2025) EndedAt: 2025-10-23 17:03:58 -0400 (Thu, 23 Oct 2025) EllapsedTime: 28.3 seconds RetCode: 0 Status: OK PackageFile: mimager_1.33.0.tar.gz PackageFileSize: 965.3 KiB