Package: mimager Version: 1.33.0 Maintainer: Aaron Wolen MaintainerEmail: aaron at wolen.com git_url: https://git.bioconductor.org/packages/mimager git_branch: devel git_last_commit: 3c4a5ea git_last_commit_date: 2025-04-15 11:08:03 -0400 (Tue, 15 Apr 2025)