Package: miloR Version: 2.5.2 Command: /Library/Frameworks/R.framework/Resources/bin/R CMD INSTALL miloR StartedAt: 2025-10-23 15:29:00 -0400 (Thu, 23 Oct 2025) EndedAt: 2025-10-23 15:29:38 -0400 (Thu, 23 Oct 2025) EllapsedTime: 38.2 seconds RetCode: 0 Status: OK