Package: microbiomeDASim Version: 1.23.0 Command: /home/biocbuild/R/R/bin/R CMD INSTALL microbiomeDASim StartedAt: 2025-10-16 21:30:08 -0000 (Thu, 16 Oct 2025) EndedAt: 2025-10-16 21:30:36 -0000 (Thu, 16 Oct 2025) EllapsedTime: 27.9 seconds RetCode: 0 Status: OK