Package: microbiomeDASim Version: 1.23.0 Command: /home/biocbuild/bbs-3.22-bioc/R/bin/R CMD check --install=check:microbiomeDASim.install-out.txt --library=/home/biocbuild/bbs-3.22-bioc/R/site-library --timings microbiomeDASim_1.23.0.tar.gz StartedAt: 2025-10-20 01:56:04 -0400 (Mon, 20 Oct 2025) EndedAt: 2025-10-20 01:59:45 -0400 (Mon, 20 Oct 2025) EllapsedTime: 221.2 seconds RetCode: 0 Status: OK CheckDir: microbiomeDASim.Rcheck Warnings: 0