Package: microbiomeDASim Version: 1.23.0 Command: /Library/Frameworks/R.framework/Resources/bin/R CMD INSTALL microbiomeDASim StartedAt: 2025-10-19 15:20:56 -0400 (Sun, 19 Oct 2025) EndedAt: 2025-10-19 15:21:25 -0400 (Sun, 19 Oct 2025) EllapsedTime: 29.3 seconds RetCode: 0 Status: OK