Package: microbiomeDASim Version: 1.23.0 Command: /Library/Frameworks/R.framework/Resources/bin/R CMD INSTALL microbiomeDASim StartedAt: 2025-10-20 15:08:32 -0400 (Mon, 20 Oct 2025) EndedAt: 2025-10-20 15:08:40 -0400 (Mon, 20 Oct 2025) EllapsedTime: 8.4 seconds RetCode: 0 Status: OK