Package: microbiomeDASim Version: 1.23.0 Command: /Library/Frameworks/R.framework/Resources/bin/R CMD build --keep-empty-dirs --no-resave-data microbiomeDASim StartedAt: 2025-10-21 17:03:16 -0400 (Tue, 21 Oct 2025) EndedAt: 2025-10-21 17:03:39 -0400 (Tue, 21 Oct 2025) EllapsedTime: 22.2 seconds RetCode: 0 Status: OK PackageFile: microbiomeDASim_1.23.0.tar.gz PackageFileSize: 1.498 MiB