Package: microbiome Version: 1.31.4 Command: /home/biocbuild/R/R/bin/R CMD INSTALL microbiome StartedAt: 2025-10-16 21:30:22 -0000 (Thu, 16 Oct 2025) EndedAt: 2025-10-16 21:30:52 -0000 (Thu, 16 Oct 2025) EllapsedTime: 30.7 seconds RetCode: 0 Status: OK