Package: microbiome Version: 1.31.4 Command: /home/biocbuild/R/R/bin/R CMD build --keep-empty-dirs --no-resave-data microbiome StartedAt: 2025-10-17 02:40:39 -0000 (Fri, 17 Oct 2025) EndedAt: 2025-10-17 02:41:20 -0000 (Fri, 17 Oct 2025) EllapsedTime: 41.0 seconds RetCode: 0 Status: OK PackageFile: microbiome_1.31.4.tar.gz PackageFileSize: 738.3 KiB