Package: microbiome Version: 1.31.4 Command: /home/biocbuild/bbs-3.22-bioc/R/bin/R CMD build --keep-empty-dirs --no-resave-data --md5 microbiome StartedAt: 2025-10-28 18:39:19 -0400 (Tue, 28 Oct 2025) EndedAt: 2025-10-28 18:39:51 -0400 (Tue, 28 Oct 2025) EllapsedTime: 32.0 seconds RetCode: 0 Status: OK PackageFile: microbiome_1.31.4.tar.gz PackageFileSize: 719.6 KiB