Package: microbiome Version: 1.31.4 Command: /Library/Frameworks/R.framework/Resources/bin/R CMD check --install=check:microbiome.install-out.txt --library=/Library/Frameworks/R.framework/Resources/library --no-vignettes --timings microbiome_1.31.4.tar.gz StartedAt: 2025-10-20 23:48:15 -0400 (Mon, 20 Oct 2025) EndedAt: 2025-10-20 23:52:14 -0400 (Mon, 20 Oct 2025) EllapsedTime: 238.6 seconds RetCode: 0 Status: OK CheckDir: microbiome.Rcheck Warnings: 0