Package: microbiome Version: 1.31.4 Command: /Library/Frameworks/R.framework/Resources/bin/R CMD build --keep-empty-dirs --no-resave-data microbiome StartedAt: 2025-10-19 18:05:38 -0400 (Sun, 19 Oct 2025) EndedAt: 2025-10-19 18:06:27 -0400 (Sun, 19 Oct 2025) EllapsedTime: 49.3 seconds RetCode: 0 Status: OK PackageFile: microbiome_1.31.4.tar.gz PackageFileSize: 714.2 KiB