Package: microbiome Version: 1.31.4 Command: rm -rf microbiome.buildbin-libdir && mkdir microbiome.buildbin-libdir && /Users/biocbuild/BBS/utils/build-universal.sh microbiome_1.31.4.tar.gz /Library/Frameworks/R.framework/Resources/bin/R microbiome.buildbin-libdir StartedAt: 2025-10-20 03:18:45 -0400 (Mon, 20 Oct 2025) EndedAt: 2025-10-20 03:19:21 -0400 (Mon, 20 Oct 2025) EllapsedTime: 35.8 seconds RetCode: 0 Status: OK PackageFile: microbiome_1.31.4.tgz PackageFileSize: 1018 KiB