Package: microbiome Version: 1.31.4 Maintainer: Leo Lahti MaintainerEmail: leo.lahti at iki.fi git_url: https://git.bioconductor.org/packages/microbiome git_branch: devel git_last_commit: 7c4e0e86 git_last_commit_date: 2025-07-24 17:36:09 -0400 (Thu, 24 Jul 2025)