Package: miaTime Version: 0.99.13 Command: /home/biocbuild/R/R/bin/R CMD INSTALL miaTime StartedAt: 2025-10-16 22:25:10 -0000 (Thu, 16 Oct 2025) EndedAt: 2025-10-16 22:26:05 -0000 (Thu, 16 Oct 2025) EllapsedTime: 55.8 seconds RetCode: 0 Status: OK