Package: miaTime Version: 0.99.13 Command: /home/biocbuild/R/R/bin/R CMD check --install=check:miaTime.install-out.txt --library=/home/biocbuild/R/R/site-library --no-vignettes --timings miaTime_0.99.13.tar.gz StartedAt: 2025-10-17 11:00:10 -0000 (Fri, 17 Oct 2025) EndedAt: 2025-10-17 11:07:29 -0000 (Fri, 17 Oct 2025) EllapsedTime: 438.4 seconds RetCode: 0 Status: OK CheckDir: miaTime.Rcheck Warnings: 0