Package: miaTime Version: 0.99.13 Command: /home/biocbuild/R/R/bin/R CMD build --keep-empty-dirs --no-resave-data miaTime StartedAt: 2025-10-17 02:39:46 -0000 (Fri, 17 Oct 2025) EndedAt: 2025-10-17 02:41:14 -0000 (Fri, 17 Oct 2025) EllapsedTime: 88.0 seconds RetCode: 0 Status: OK PackageFile: miaTime_0.99.13.tar.gz PackageFileSize: 6.283 MiB