Package: miaTime Version: 0.99.13 Command: /home/biocbuild/bbs-3.22-bioc/R/bin/R CMD INSTALL miaTime StartedAt: 2025-10-19 15:59:11 -0400 (Sun, 19 Oct 2025) EndedAt: 2025-10-19 15:59:57 -0400 (Sun, 19 Oct 2025) EllapsedTime: 46.2 seconds RetCode: 0 Status: OK