Package: miaTime Version: 0.99.13 Command: /home/biocbuild/bbs-3.22-bioc/R/bin/R CMD check --install=check:miaTime.install-out.txt --library=/home/biocbuild/bbs-3.22-bioc/R/site-library --timings miaTime_0.99.13.tar.gz StartedAt: 2025-10-20 01:54:59 -0400 (Mon, 20 Oct 2025) EndedAt: 2025-10-20 02:00:59 -0400 (Mon, 20 Oct 2025) EllapsedTime: 360.3 seconds RetCode: 0 Status: OK CheckDir: miaTime.Rcheck Warnings: 0