Package: miaTime Version: 0.99.13 Command: /Library/Frameworks/R.framework/Resources/bin/R CMD INSTALL miaTime StartedAt: 2025-10-19 15:53:08 -0400 (Sun, 19 Oct 2025) EndedAt: 2025-10-19 15:54:07 -0400 (Sun, 19 Oct 2025) EllapsedTime: 59.0 seconds RetCode: 0 Status: OK