Package: miaTime Version: 0.99.13 Command: /Library/Frameworks/R.framework/Resources/bin/R CMD build --keep-empty-dirs --no-resave-data miaTime StartedAt: 2025-10-19 18:05:25 -0400 (Sun, 19 Oct 2025) EndedAt: 2025-10-19 18:07:15 -0400 (Sun, 19 Oct 2025) EllapsedTime: 110.1 seconds RetCode: 0 Status: OK PackageFile: miaTime_0.99.13.tar.gz PackageFileSize: 6.356 MiB