Package: miaTime Version: 0.99.13 Command: rm -rf miaTime.buildbin-libdir && mkdir miaTime.buildbin-libdir && /Users/biocbuild/BBS/utils/build-universal.sh miaTime_0.99.13.tar.gz /Library/Frameworks/R.framework/Resources/bin/R miaTime.buildbin-libdir StartedAt: 2025-10-20 03:18:42 -0400 (Mon, 20 Oct 2025) EndedAt: 2025-10-20 03:19:43 -0400 (Mon, 20 Oct 2025) EllapsedTime: 61.3 seconds RetCode: 0 Status: OK PackageFile: miaTime_0.99.13.tgz PackageFileSize: 6.43 MiB