############################################################################## ############################################################################## ### ### Running command: ### ### rm -rf miaTime.buildbin-libdir && mkdir miaTime.buildbin-libdir && /Users/biocbuild/BBS/utils/build-universal.sh miaTime_0.99.13.tar.gz /Library/Frameworks/R.framework/Resources/bin/R miaTime.buildbin-libdir ### ############################################################################## ############################################################################## >>>>>>> >>>>>>> INSTALLATION WITH 'R CMD INSTALL --preclean --no-multiarch --library=miaTime.buildbin-libdir miaTime_0.99.13.tar.gz' >>>>>>> * installing *source* package ‘miaTime’ ... ** this is package ‘miaTime’ version ‘0.99.13’ ** using staged installation ** R ** data ** inst ** byte-compile and prepare package for lazy loading ** help *** installing help indices *** copying figures ** building package indices ** installing vignettes ** testing if installed package can be loaded from temporary location ** testing if installed package can be loaded from final location ** testing if installed package keeps a record of temporary installation path * DONE (miaTime)