Package: miaTime Version: 0.99.13 Command: rm -rf miaTime.buildbin-libdir && mkdir miaTime.buildbin-libdir && /Users/biocbuild/BBS/utils/build-universal.sh miaTime_0.99.13.tar.gz /Library/Frameworks/R.framework/Resources/bin/R miaTime.buildbin-libdir StartedAt: 2025-10-19 23:06:17 -0400 (Sun, 19 Oct 2025) EndedAt: 2025-10-19 23:06:36 -0400 (Sun, 19 Oct 2025) EllapsedTime: 18.4 seconds RetCode: 0 Status: OK PackageFile: miaTime_0.99.13.tgz PackageFileSize: 6.432 MiB