Package: miaTime Version: 0.99.13 Maintainer: Tuomas Borman MaintainerEmail: tuomas.v.borman at utu.fi git_url: https://git.bioconductor.org/packages/miaTime git_branch: devel git_last_commit: 8969362 git_last_commit_date: 2025-10-14 14:55:10 -0400 (Tue, 14 Oct 2025)