Package: miaSim Version: 1.16.0 Command: /Library/Frameworks/R.framework/Resources/bin/R CMD INSTALL miaSim StartedAt: 2025-11-02 15:34:55 -0500 (Sun, 02 Nov 2025) EndedAt: 2025-11-02 15:35:34 -0500 (Sun, 02 Nov 2025) EllapsedTime: 38.4 seconds RetCode: 0 Status: OK