Package: miaSim Version: 1.16.0 Command: rm -rf miaSim.buildbin-libdir && mkdir miaSim.buildbin-libdir && /Users/biocbuild/BBS/utils/build-universal.sh miaSim_1.16.0.tar.gz /Library/Frameworks/R.framework/Resources/bin/R miaSim.buildbin-libdir StartedAt: 2025-11-01 01:43:22 -0400 (Sat, 01 Nov 2025) EndedAt: 2025-11-01 01:44:03 -0400 (Sat, 01 Nov 2025) EllapsedTime: 41.4 seconds RetCode: 0 Status: OK PackageFile: miaSim_1.16.0.tgz PackageFileSize: 481 KiB