Package: miaSim Version: 1.16.0 Command: /Library/Frameworks/R.framework/Resources/bin/R CMD check --install=check:miaSim.install-out.txt --library=/Library/Frameworks/R.framework/Resources/library --no-vignettes --timings miaSim_1.16.0.tar.gz StartedAt: 2025-10-31 20:45:27 -0400 (Fri, 31 Oct 2025) EndedAt: 2025-10-31 20:47:14 -0400 (Fri, 31 Oct 2025) EllapsedTime: 106.2 seconds RetCode: 0 Status: OK CheckDir: miaSim.Rcheck Warnings: 0