Package: mia Version: 1.17.5 Command: F:\biocbuild\bbs-3.22-bioc\R\bin\R.exe CMD check --no-multiarch --install=check:mia.install-out.txt --library=F:\biocbuild\bbs-3.22-bioc\R\library --no-vignettes --timings mia_1.17.5.tar.gz StartedAt: 2025-08-15 05:08:29 -0400 (Fri, 15 Aug 2025) EndedAt: 2025-08-15 05:48:29 -0400 (Fri, 15 Aug 2025) EllapsedTime: 2400.2 seconds RetCode: None Status: TIMEOUT CheckDir: mia.Rcheck Warnings: NA